BEGIN:VCALENDAR
VERSION:2.0
PRODID:-//Nature&#039;s Brush Studio - ECPv6.15.20//NONSGML v1.0//EN
CALSCALE:GREGORIAN
METHOD:PUBLISH
X-ORIGINAL-URL:https://www.naturesbrushstudio.com
X-WR-CALDESC:Events for Nature&#039;s Brush Studio
REFRESH-INTERVAL;VALUE=DURATION:PT1H
X-Robots-Tag:noindex
X-PUBLISHED-TTL:PT1H
BEGIN:VTIMEZONE
TZID:America/Detroit
BEGIN:DAYLIGHT
TZOFFSETFROM:-0500
TZOFFSETTO:-0400
TZNAME:EDT
DTSTART:20220313T070000
END:DAYLIGHT
BEGIN:STANDARD
TZOFFSETFROM:-0400
TZOFFSETTO:-0500
TZNAME:EST
DTSTART:20221106T060000
END:STANDARD
BEGIN:DAYLIGHT
TZOFFSETFROM:-0500
TZOFFSETTO:-0400
TZNAME:EDT
DTSTART:20230312T070000
END:DAYLIGHT
BEGIN:STANDARD
TZOFFSETFROM:-0400
TZOFFSETTO:-0500
TZNAME:EST
DTSTART:20231105T060000
END:STANDARD
BEGIN:DAYLIGHT
TZOFFSETFROM:-0500
TZOFFSETTO:-0400
TZNAME:EDT
DTSTART:20240310T070000
END:DAYLIGHT
BEGIN:STANDARD
TZOFFSETFROM:-0400
TZOFFSETTO:-0500
TZNAME:EST
DTSTART:20241103T060000
END:STANDARD
END:VTIMEZONE
BEGIN:VEVENT
DTSTART;TZID=America/Detroit:20230901T170000
DTEND;TZID=America/Detroit:20230901T200000
DTSTAMP:20260425T152313
CREATED:20230727T141539Z
LAST-MODIFIED:20230727T141803Z
UID:5877-1693587600-1693598400@www.naturesbrushstudio.com
SUMMARY:Live Demo at Thumb Brewery in Caseville!
DESCRIPTION:Im looking forward to checking out the Thumb of Michigan at the incredible Thumb Brewery in Caseville!  Join me for a few hours of live Bob Ross Style painting with me\, Ted a Certified Bob Ross Instructor® \nFun\, food\,drinks\, and some give-aways!
URL:https://www.naturesbrushstudio.com/event/live-demo-at-thumb-brewery-in-caseville/
LOCATION:Thumb Brewery\, 6758 Pine St\, Caseville\, michigan\, 48725
ATTACH;FMTTYPE=image/jpeg:https://www.naturesbrushstudio.com/wp-content/uploads/2023/06/NoviNov23.jpg
END:VEVENT
BEGIN:VEVENT
DTSTART;TZID=America/Detroit:20230902T130000
DTEND;TZID=America/Detroit:20230902T160000
DTSTAMP:20260425T152313
CREATED:20230317T154729Z
LAST-MODIFIED:20230317T154729Z
UID:5363-1693659600-1693670400@www.naturesbrushstudio.com
SUMMARY:Learn to paint like Bob Ross in Fenton!
DESCRIPTION:I am so happy to be teaching in Fenton for Summer 2023!  I have some brand new paintings made for this venue\, to stretch the skills of returning students\, while still being very very accessable for the first timer. \nCheck out all the events coming up here\, and sign up at www.slpr.net \nAll supplies included and no experience is needed! \nHope to see you there!
URL:https://www.naturesbrushstudio.com/event/learn-to-paint-like-bob-ross-in-fenton-14/
LOCATION:fenton SLPR\, 150 s leroy st\, fenton\, mi\, 48430
ATTACH;FMTTYPE=image/jpeg:https://www.naturesbrushstudio.com/wp-content/uploads/2023/03/FentonSept23-1.jpg
END:VEVENT
BEGIN:VEVENT
DTSTART;TZID=America/Detroit:20230906T170000
DTEND;TZID=America/Detroit:20230906T200000
DTSTAMP:20260425T152313
CREATED:20230516T225542Z
LAST-MODIFIED:20230516T225542Z
UID:5696-1694019600-1694030400@www.naturesbrushstudio.com
SUMMARY:Learn to paint like Bob Ross in Lansing!
DESCRIPTION:Im very excited to be back in Lansing for a fun class learning all of techniques to make your masterpiece in one afternoon! \nAll supplies are included and no previous experience is required. \nDirect Link to Register HERE
URL:https://www.naturesbrushstudio.com/event/learn-to-paint-like-bob-ross-in-lansing-10/
LOCATION:Schmidt Community Center\, 5825 Wise Rd\, Lansing\, mi\, 48911
END:VEVENT
BEGIN:VEVENT
DTSTART;TZID=America/Detroit:20230908T180000
DTEND;TZID=America/Detroit:20230908T180000
DTSTAMP:20260425T152313
CREATED:20230716T214408Z
LAST-MODIFIED:20230716T214408Z
UID:5808-1694196000-1694196000@www.naturesbrushstudio.com
SUMMARY:Learn to paint like Bob Ross in Livonia!
DESCRIPTION:Come join me in Livonia for a new series of classes. I teach here on Friday nights and Sunday mornings. \nRegistration can be done online through secure.rec1.com/MI/livonia-mi/catalog.  You have to create a free account in order to register for classes.  This is all done through the venue so their rules and processes apply. \nNo experience is needed and all supplies are included!  Check out my class pics and I hope to see you there!
URL:https://www.naturesbrushstudio.com/event/learn-to-paint-like-bob-ross-in-livonia/
LOCATION:Jack E Kirksey Center\, 15100 Hubbard St\, Livonia\, mi\, 48154
ATTACH;FMTTYPE=image/jpeg:https://www.naturesbrushstudio.com/wp-content/uploads/2023/07/Liv9823.jpg
END:VEVENT
BEGIN:VEVENT
DTSTART;TZID=America/Detroit:20230909T130000
DTEND;TZID=America/Detroit:20230909T160000
DTSTAMP:20260425T152313
CREATED:20230130T141326Z
LAST-MODIFIED:20230130T141326Z
UID:5265-1694264400-1694275200@www.naturesbrushstudio.com
SUMMARY:The Joy of Painting the Bob Ross Way in Davisburg!
DESCRIPTION:I am very pleased to be continuing to offer classes at the Springfield Township Parks and Rec!  We will be doing one class per month\, a different painting each time.  Registration is being handled by \nhttps://stpr.us/CourseActivities.aspx?id=11 \nThe base cost is $70 and this includes all the supplies you need to create your masterpiece.   You can do this!  No experience required. \nI hope to see you there!
URL:https://www.naturesbrushstudio.com/event/the-joy-of-painting-the-bob-ross-way-in-davisburg-6/
LOCATION:Springfield Township parks and recreation\, 495 Broadway\, Davisburg\, mi
ATTACH;FMTTYPE=image/jpeg:https://www.naturesbrushstudio.com/wp-content/uploads/2023/01/SpringfieldSept2023.jpg
END:VEVENT
BEGIN:VEVENT
DTSTART;TZID=America/Detroit:20230910T140000
DTEND;TZID=America/Detroit:20230910T170000
DTSTAMP:20260425T152313
CREATED:20230619T171030Z
LAST-MODIFIED:20230619T171107Z
UID:5745-1694354400-1694365200@www.naturesbrushstudio.com
SUMMARY:Paint like Bob Ross in Clarkston!
DESCRIPTION:I am super excited to teach in Clarkson through Independence township Parks and Rec.  We are going to have a great time painting a complete Bob Ross style masterpiece in just a few hours! \nFor fall\, we are changing the times to 2pm start to 5pm. \nJoin me for a super fun time! \nAll supplies are included and no experience is needed. \nClick here to register!
URL:https://www.naturesbrushstudio.com/event/paint-like-bob-ross-in-clarkston/
LOCATION:Independence Twnship Bay Court Park\, 6970 Andersonville Rd\, Clarkston\, MI\, 48336\, United States
END:VEVENT
BEGIN:VEVENT
DTSTART;TZID=America/Detroit:20230913T180000
DTEND;TZID=America/Detroit:20230913T180000
DTSTAMP:20260425T152313
CREATED:20230622T232423Z
LAST-MODIFIED:20230731T173733Z
UID:5761-1694628000-1694628000@www.naturesbrushstudio.com
SUMMARY:Paint like Bob Ross in Novi!
DESCRIPTION:I am very excited to continue my classes in Novi!   Let’s start a new run of classes for Fall! \nEven if you have never painted before\, you can learn the same techniques as Bob showed on the Joy of Painting\, and create a masterpiece in just a few hours.  All supplies are included.  You can do this! \n  \nhttps://novischools.digitalsignup.com/Class/1275-learn-to-paint-like-bob-ross
URL:https://www.naturesbrushstudio.com/event/paint-like-bob-ross-in-novi-9/
LOCATION:Novi meadows 6th grade house\, 25299 Taft Rd Room 646\, Novi\, Mi\, 48374
ATTACH;FMTTYPE=image/jpeg:https://www.naturesbrushstudio.com/wp-content/uploads/2023/06/NoviSept23.jpg
END:VEVENT
BEGIN:VEVENT
DTSTART;TZID=America/Detroit:20230916T183000
DTEND;TZID=America/Detroit:20230916T213000
DTSTAMP:20260425T152313
CREATED:20230826T152134Z
LAST-MODIFIED:20230826T152639Z
UID:5976-1694889000-1694899800@www.naturesbrushstudio.com
SUMMARY:Learn to Paint like Bob Ross at Kensington Metropark!
DESCRIPTION:Join me\, a Certified Ross Instructor (CRI®) for a special\, one day class at Kensington Metropark!  I have been lucky enough to teach at several metroparks over the past few years\, but this is the first time at Kensington. \nThis is a one day event: Under the Night Sky!  \nClick the link to check out all the details and to sign up.  All supplies included and no experience is required!! \n 
URL:https://www.naturesbrushstudio.com/event/learn-to-paint-like-bob-ross-at-kensington-metropark/
ATTACH;FMTTYPE=image/jpeg:https://www.naturesbrushstudio.com/wp-content/uploads/2023/08/20230826_112437-scaled.jpg
END:VEVENT
BEGIN:VEVENT
DTSTART;TZID=America/Detroit:20230917T130000
DTEND;TZID=America/Detroit:20230917T160000
DTSTAMP:20260425T152313
CREATED:20230727T141215Z
LAST-MODIFIED:20230905T215900Z
UID:5873-1694955600-1694966400@www.naturesbrushstudio.com
SUMMARY:Learn to paint like Bob Ross at Thumb Brewery in Caseville!
DESCRIPTION:I am very excited to come out to Caseville for a special class at Thumb Brewery!  Ill be at the brewery on September 1st\, 5pm to give some live demonstrations\, to promote this class.  The Class will be at 1pm on Sept 17th. \nI created a special painting of the Port Hope Lighthouse that you can create in just a few hours.  Spend some time with me as we create this entire scene with no previous experience needed.  All supplies are included and everyone goes home with a completed masterpiece.  You can do this! Sign up here:
URL:https://www.naturesbrushstudio.com/event/learn-to-paint-like-bob-ross-at-thumb-brewery-in-caseville/
LOCATION:Thumb Brewery\, 6758 Pine St\, Caseville\, michigan\, 48725
END:VEVENT
BEGIN:VEVENT
DTSTART;TZID=America/Detroit:20230919T170000
DTEND;TZID=America/Detroit:20230919T200000
DTSTAMP:20260425T152313
CREATED:20230808T153822Z
LAST-MODIFIED:20230808T153822Z
UID:5910-1695142800-1695153600@www.naturesbrushstudio.com
SUMMARY:Paint like Bob Ross at Life in the Craft Room in F. Hills!
DESCRIPTION:I am super excited for this class at the Life in the Craft Room in Farmington Hills!  This store holds many different types of classes and features vendors from all around Michigan\, selling a huge variety of crafts and artworks. You have to come check them out! \nWe are painting this fun scene based off the Joy of Painting with Bob Ross®  Join me for a few hours having a fun time learning the techniques Bob developed and go home with a completed painting at the end of the class. All supplies are included and no previous experience is required.  You can do this!
URL:https://www.naturesbrushstudio.com/event/paint-like-bob-ross-at-life-in-the-craft-room-in-f-hills/
LOCATION:life in the craft room\, 37700 Six Mile Rd\, Livonia\, MI\, 48152\, United States
ATTACH;FMTTYPE=image/jpeg:https://www.naturesbrushstudio.com/wp-content/uploads/2023/08/20230808_100854-scaled.jpg
END:VEVENT
BEGIN:VEVENT
DTSTART;TZID=America/Detroit:20230920T180000
DTEND;TZID=America/Detroit:20230920T210000
DTSTAMP:20260425T152313
CREATED:20230826T150825Z
LAST-MODIFIED:20230826T150825Z
UID:5973-1695232800-1695243600@www.naturesbrushstudio.com
SUMMARY:Paint like Bob Ross at my home studio in Farmington Hills!
DESCRIPTION:Our next class is this amazing Nic Hankins composition called Moonlight Dunes.  In an oval. With me\, CRI® Ted! \nThis is a great way to get started on your painting journey\, or a nice challege for any experienced painter.
URL:https://www.naturesbrushstudio.com/event/paint-like-bob-ross-at-my-home-studio-in-farmington-hills/
LOCATION:Nature’s Brush Studio\, 21588 WHITTINGTON ST\, Farmington Hills\, MI\, 48336\, United States
ATTACH;FMTTYPE=image/jpeg:https://www.naturesbrushstudio.com/wp-content/uploads/2023/08/image000000.jpg
END:VEVENT
BEGIN:VEVENT
DTSTART;TZID=America/Detroit:20230922T180000
DTEND;TZID=America/Detroit:20230922T210000
DTSTAMP:20260425T152313
CREATED:20230722T154518Z
LAST-MODIFIED:20230722T154518Z
UID:5853-1695405600-1695416400@www.naturesbrushstudio.com
SUMMARY:Paint like Bob Ross in Grand Rapids!
DESCRIPTION:I am super excited for the opportunity to come out again to Gaslight Village\, right near downtown Grand Rapids\, to host another class at the I’m an Artist Community Studio! \nWe will have a great time showing you all how to create an entire oil painting in just a few hours.  Anyone can create their masterpiece in one afternoon\, even if you have never picked up a brush before! NO previous experience is required\, and all supplies are included. \nThe cost is $70 per person\, and you can either sign up right here or give me a call and we can take care of payment over the phone if you prefer. \n\n\n\n  \nI’m An Artist Community Studio is located at 2166 Wealthy St SE  Grand Rapids\, MI  49506   
URL:https://www.naturesbrushstudio.com/event/paint-like-bob-ross-in-grand-rapids-4/
LOCATION:I’m an Artist! GrandRapids\, 2166 Wealthy St SE  \, Grand Rapids\, michigan\, 49506 
ATTACH;FMTTYPE=image/jpeg:https://www.naturesbrushstudio.com/wp-content/uploads/2023/07/20230721_213347.jpg
END:VEVENT
BEGIN:VEVENT
DTSTART;TZID=America/Detroit:20230923T130000
DTEND;TZID=America/Detroit:20230923T160000
DTSTAMP:20260425T152313
CREATED:20230617T185823Z
LAST-MODIFIED:20230617T185823Z
UID:5736-1695474000-1695484800@www.naturesbrushstudio.com
SUMMARY:Paint Like Bob Ross at The War Memorial
DESCRIPTION:Another great class at this wonderful venue!  No experience required and all supplies included. Come join me for new series of classes!  Fluffy clouds\, big strong mountains\, and of course\, lots of happy trees. \n  \nCheck out this link to find the class and register!
URL:https://www.naturesbrushstudio.com/event/paint-like-bob-ross-at-the-war-memorial-3/
LOCATION:The War Memorial\, 32 Lake Shore Drive\, Grosse Pointe Farms\, mi\, 48236
ATTACH;FMTTYPE=image/jpeg:https://www.naturesbrushstudio.com/wp-content/uploads/2023/06/20230616_124649.jpg
END:VEVENT
BEGIN:VEVENT
DTSTART;TZID=America/Detroit:20230924T090000
DTEND;TZID=America/Detroit:20230924T090000
DTSTAMP:20260425T152313
CREATED:20230716T214657Z
LAST-MODIFIED:20230716T214657Z
UID:5818-1695546000-1695546000@www.naturesbrushstudio.com
SUMMARY:Learn to paint like Bob Ross in Livonia!
DESCRIPTION:Come join me in Livonia for a new series of classes. I teach here on Friday nights and Sunday mornings. \nRegistration can be done online through secure.rec1.com/MI/livonia-mi/catalog.  You have to create a free account in order to register for classes.  This is all done through the venue so their rules and processes apply. \nNo experience is needed and all supplies are included!  Check out my class pics and I hope to see you there!
URL:https://www.naturesbrushstudio.com/event/learn-to-paint-like-bob-ross-in-livonia-8/
LOCATION:Jack E Kirksey Center\, 15100 Hubbard St\, Livonia\, mi\, 48154
ATTACH;FMTTYPE=image/jpeg:https://www.naturesbrushstudio.com/wp-content/uploads/2023/07/Liv92423.jpg
END:VEVENT
BEGIN:VEVENT
DTSTART;TZID=America/Detroit:20230929T150000
DTEND;TZID=America/Detroit:20230930T170000
DTSTAMP:20260425T152313
CREATED:20230808T155649Z
LAST-MODIFIED:20230808T155649Z
UID:5915-1695999600-1696093200@www.naturesbrushstudio.com
SUMMARY:Lodge and Learn retreat at the RAM\, Roscommon!
DESCRIPTION:Another event was recently posted for a new Lodge and Learn retreat!  At the RAM (Ralph A. MacMullan Conference Center) in beautiful Roscommon\, MI I am going to be a part of this fantasic getaway. \nI will be teaching a special Bob Ross class at this art themed\, aquatic health focused retreat. Spend a day\, or two days at this fun filled weekend with hiking trails\, a micro murder mystery event\, fish identification classes and much much more.  Check out all the details and all thats included (meals\, lodging\, classes\, attend them all!) at the links below. \n 
URL:https://www.naturesbrushstudio.com/event/lodge-and-learn-retreat-at-the-ram-roscommon/
LOCATION:Ralph A MacMullan Conference Center\, Conservation Dr\, roscommon\, mi\, 48653
END:VEVENT
END:VCALENDAR