BEGIN:VCALENDAR
VERSION:2.0
PRODID:-//Nature&#039;s Brush Studio - ECPv6.15.20//NONSGML v1.0//EN
CALSCALE:GREGORIAN
METHOD:PUBLISH
X-ORIGINAL-URL:https://www.naturesbrushstudio.com
X-WR-CALDESC:Events for Nature&#039;s Brush Studio
REFRESH-INTERVAL;VALUE=DURATION:PT1H
X-Robots-Tag:noindex
X-PUBLISHED-TTL:PT1H
BEGIN:VTIMEZONE
TZID:America/Detroit
BEGIN:DAYLIGHT
TZOFFSETFROM:-0500
TZOFFSETTO:-0400
TZNAME:EDT
DTSTART:20220313T070000
END:DAYLIGHT
BEGIN:STANDARD
TZOFFSETFROM:-0400
TZOFFSETTO:-0500
TZNAME:EST
DTSTART:20221106T060000
END:STANDARD
BEGIN:DAYLIGHT
TZOFFSETFROM:-0500
TZOFFSETTO:-0400
TZNAME:EDT
DTSTART:20230312T070000
END:DAYLIGHT
BEGIN:STANDARD
TZOFFSETFROM:-0400
TZOFFSETTO:-0500
TZNAME:EST
DTSTART:20231105T060000
END:STANDARD
BEGIN:DAYLIGHT
TZOFFSETFROM:-0500
TZOFFSETTO:-0400
TZNAME:EDT
DTSTART:20240310T070000
END:DAYLIGHT
BEGIN:STANDARD
TZOFFSETFROM:-0400
TZOFFSETTO:-0500
TZNAME:EST
DTSTART:20241103T060000
END:STANDARD
END:VTIMEZONE
BEGIN:VEVENT
DTSTART;TZID=America/Detroit:20231007T130000
DTEND;TZID=America/Detroit:20231007T160000
DTSTAMP:20260425T133843
CREATED:20230726T010635Z
LAST-MODIFIED:20230925T141713Z
UID:5870-1696683600-1696694400@www.naturesbrushstudio.com
SUMMARY:Learn to paint like Bob Ross at Gianna's Fine Art and Custom Picture Framing!
DESCRIPTION:We are going to have a great class in Farmington Hills.  I love this venue\, nice and cozy with a limit of 10 students so everyone gets as much 1 on 1 instruction as possible. \nPic incoming!
URL:https://www.naturesbrushstudio.com/event/learn-to-paint-like-bob-ross-at-giannas-fine-art-and-custom-picture-framing-3/
LOCATION:Gianna’s Fine Art and Custom Framing\, 30006 W. 12 Mile Rd\, Farmington Hills\, MI\, 48334
ATTACH;FMTTYPE=image/jpeg:https://www.naturesbrushstudio.com/wp-content/uploads/2023/09/LansingNOV23-scaled.jpg
END:VEVENT
BEGIN:VEVENT
DTSTART;TZID=America/Detroit:20231008T140000
DTEND;TZID=America/Detroit:20231008T170000
DTSTAMP:20260425T133843
CREATED:20230619T171256Z
LAST-MODIFIED:20230619T171256Z
UID:5747-1696773600-1696784400@www.naturesbrushstudio.com
SUMMARY:Paint like Bob Ross in Clarkston!
DESCRIPTION:I am super excited to teach in Clarkson through Independence township Parks and Rec.  We are going to have a great time painting a complete Bob Ross style masterpiece in just a few hours! \nFor fall\, we are changing the times to 2pm start to 5pm. \nJoin me for a super fun time! \nAll supplies are included and no experience is needed. \nClick here to register!
URL:https://www.naturesbrushstudio.com/event/paint-like-bob-ross-in-clarkston-2/
LOCATION:Independence Twnship Bay Court Park\, 6970 Andersonville Rd\, Clarkston\, MI\, 48336\, United States
ATTACH;FMTTYPE=image/jpeg:https://www.naturesbrushstudio.com/wp-content/uploads/2023/06/Oct23.jpg
END:VEVENT
BEGIN:VEVENT
DTSTART;TZID=America/Detroit:20231010T170000
DTEND;TZID=America/Detroit:20231010T200000
DTSTAMP:20260425T133843
CREATED:20230912T145253Z
LAST-MODIFIED:20230926T002643Z
UID:6030-1696957200-1696968000@www.naturesbrushstudio.com
SUMMARY:Learn to Paint like Bob Ross in Lansing!
DESCRIPTION:Im very excited to be back in Lansing for a fun class learning all of techniques to make your masterpiece in one afternoon! \nAll supplies are included and no previous experience is required. \nDirect Link to Register HERE
URL:https://www.naturesbrushstudio.com/event/learn-to-paint-like-bob-ross-in-lansing-11/
LOCATION:Schmidt Community Center\, 5825 Wise Rd\, Lansing\, mi\, 48911
ATTACH;FMTTYPE=image/jpeg:https://www.naturesbrushstudio.com/wp-content/uploads/2023/09/LansingOCT23.jpg
END:VEVENT
BEGIN:VEVENT
DTSTART;TZID=America/Detroit:20231013T180000
DTEND;TZID=America/Detroit:20231013T180000
DTSTAMP:20260425T133843
CREATED:20230716T214835Z
LAST-MODIFIED:20230716T214835Z
UID:5820-1697220000-1697220000@www.naturesbrushstudio.com
SUMMARY:Learn to paint like Bob Ross in Livonia!
DESCRIPTION:Come join me in Livonia for a new series of classes. I teach here on Friday nights and Sunday mornings. \nRegistration can be done online through secure.rec1.com/MI/livonia-mi/catalog.  You have to create a free account in order to register for classes.  This is all done through the venue so their rules and processes apply. \nNo experience is needed and all supplies are included!  Check out my class pics and I hope to see you there!
URL:https://www.naturesbrushstudio.com/event/learn-to-paint-like-bob-ross-in-livonia-9/
LOCATION:Jack E Kirksey Center\, 15100 Hubbard St\, Livonia\, mi\, 48154
ATTACH;FMTTYPE=image/jpeg:https://www.naturesbrushstudio.com/wp-content/uploads/2023/07/Liv101323.jpg
END:VEVENT
BEGIN:VEVENT
DTSTART;TZID=America/Detroit:20231014T130000
DTEND;TZID=America/Detroit:20231014T160000
DTSTAMP:20260425T133843
CREATED:20230918T141619Z
LAST-MODIFIED:20230918T141619Z
UID:6064-1697288400-1697299200@www.naturesbrushstudio.com
SUMMARY:Learn to paint like Bob Ross in Fenton
DESCRIPTION:I am so happy to be teaching in Fenton for Fall 2023!  I have some brand new paintings made for this venue\, to stretch the skills of returning students\, while still being very very accessable for the first timer. \nCheck out all the events coming up here\, and sign up at www.slpr.net \nAll supplies included and no experience is needed! \nHope to see you there!
URL:https://www.naturesbrushstudio.com/event/learn-to-paint-like-bob-ross-in-fenton-15/
LOCATION:fenton SLPR\, 150 s leroy st\, fenton\, mi\, 48430
END:VEVENT
BEGIN:VEVENT
DTSTART;TZID=America/Detroit:20231016T180000
DTEND;TZID=America/Detroit:20231016T210000
DTSTAMP:20260425T133843
CREATED:20230622T232609Z
LAST-MODIFIED:20231009T151954Z
UID:5769-1697479200-1697490000@www.naturesbrushstudio.com
SUMMARY:Paint like Bob Ross in Novi!
DESCRIPTION:I am very excited to continue my classes in Novi!   Let’s start a new run of classes for Fall! \nEven if you have never painted before\, you can learn the same techniques as Bob showed on the Joy of Painting\, and create a masterpiece in just a few hours.  All supplies are included.  You can do this! \n  \nClasses are now at the Novi Meadows 6th grade house\, Room 646  25299 Taft Rd\, Novi\, 48374 \n  \nhttps://novischools.digitalsignup.com/Class/1275-learn-to-paint-like-bob-ross
URL:https://www.naturesbrushstudio.com/event/paint-like-bob-ross-in-novi-10/
LOCATION:Novi meadows 6th grade house\, 25299 Taft Rd Room 646\, Novi\, Mi\, 48374
ATTACH;FMTTYPE=image/jpeg:https://www.naturesbrushstudio.com/wp-content/uploads/2023/06/Novi-Oct23.jpg
END:VEVENT
BEGIN:VEVENT
DTSTART;TZID=America/Detroit:20231017T170000
DTEND;TZID=America/Detroit:20231017T200000
DTSTAMP:20260425T133843
CREATED:20230918T142742Z
LAST-MODIFIED:20230918T142742Z
UID:6067-1697562000-1697572800@www.naturesbrushstudio.com
SUMMARY:Learn to paint like Bob Ross in Waterford
DESCRIPTION:Im looking forward to this new venue for Fall of 2023!  I teach all around MI\, and coming to Waterford was a long time coming\, and I cant wait to show this new venue the Joy of Painting! \nAs with all my venues\, all supplies are included and no previous painting experience is required. You can do this! \n 
URL:https://www.naturesbrushstudio.com/event/learn-to-paint-like-bob-ross-in-waterford/
LOCATION:Waterford Parks and Rec\, 5640 Williams Lake Road\, Waterford\, MI\, 48329
ATTACH;FMTTYPE=image/jpeg:https://www.naturesbrushstudio.com/wp-content/uploads/2023/07/20230721_173914.jpg
END:VEVENT
BEGIN:VEVENT
DTSTART;TZID=America/Detroit:20231024T160000
DTEND;TZID=America/Detroit:20231024T190000
DTSTAMP:20260425T133843
CREATED:20230912T155305Z
LAST-MODIFIED:20231002T152656Z
UID:6040-1698163200-1698174000@www.naturesbrushstudio.com
SUMMARY:Learn to Paint Like Bob Ross in Hale\, MI!
DESCRIPTION:I am super excited to get up to beautiful Hale\, MI for this class.  Join me\, CRI® Ted Simpson\, as I guide you through a complete oil painting in just a few hours. \nEven if you have never painted before\, you can do this!  We will complete the entire oil painting one step at a time\, with lots of fun things.  pic incoming! \nJoin us at the Hale Senior Center from 4-7pm. \n310 N. Washington St. Hale\, MI \nSign up right here! \n\n 
URL:https://www.naturesbrushstudio.com/event/learn-to-paint-like-bob-ross-in-hale-mi/
END:VEVENT
BEGIN:VEVENT
DTSTART;TZID=America/Detroit:20231025T130000
DTEND;TZID=America/Detroit:20231025T160000
DTSTAMP:20260425T133843
CREATED:20230912T164821Z
LAST-MODIFIED:20230912T164821Z
UID:6044-1698238800-1698249600@www.naturesbrushstudio.com
SUMMARY:Learn to Paint like Bob Ross at the OLLI at SVSU!
DESCRIPTION:I’m pretty happy to get up north again\, this time at the Saginaw Valley State University at the Olli!  We are going to have a great time painting in Bob’s Wet on Wet technique® \nAubury Fine Arts Center Room 107 (Near the Marshall Fredericks Museum) \nAll supplies are included and no previous painting experience is required.  Happy Trees incoming! \nPlease register HERE \n 
URL:https://www.naturesbrushstudio.com/event/learn-to-paint-like-bob-ross-at-the-olli-at-svsu/
END:VEVENT
BEGIN:VEVENT
DTSTART;TZID=America/Detroit:20231025T130000
DTEND;TZID=America/Detroit:20231025T160000
DTSTAMP:20260425T133843
CREATED:20230928T142503Z
LAST-MODIFIED:20230928T142927Z
UID:6095-1698238800-1698249600@www.naturesbrushstudio.com
SUMMARY:Painting like Bob Ross at Saginaw Valley State University!
DESCRIPTION:Im looking forward to getting up north in October\, especially this class at SVSU! \nYou must register HERE! \n  \nCreate your own Bob Ross-style masterpiece in just one day! Join Ted Simpson\, certified Bob Ross instructor\, as he shows you how to paint “happy trees” and “fluffy little clouds.” Everyone goes home with a completed painting. All supplies to create a one-of-a-kind canvas are included in the cost of this class. No previous painting experience required.
URL:https://www.naturesbrushstudio.com/event/painting-like-bob-ross-at-saginaw-valley-state-university/
ATTACH;FMTTYPE=image/jpeg:https://www.naturesbrushstudio.com/wp-content/uploads/2023/09/20230220_075550-2.jpg
END:VEVENT
BEGIN:VEVENT
DTSTART;TZID=America/Detroit:20231027T180000
DTEND;TZID=America/Detroit:20231027T210000
DTSTAMP:20260425T133843
CREATED:20230911T153756Z
LAST-MODIFIED:20230911T153756Z
UID:6018-1698429600-1698440400@www.naturesbrushstudio.com
SUMMARY:Paint like Bob Ross at the War Memorial!
DESCRIPTION:I love coming out to the fantastic War Memorial.  As with all my classes\, no experience is needed and all supplies are included. Come join me for new series of classes!  Fluffy clouds\, big strong mountains\, and of course\, lots of happy trees. \n  \nCheck out this link to find the class and register!
URL:https://www.naturesbrushstudio.com/event/paint-like-bob-ross-at-the-war-memorial-4/
LOCATION:The War Memorial\, 32 Lake Shore Drive\, Grosse Pointe Farms\, mi\, 48236
END:VEVENT
END:VCALENDAR