BEGIN:VCALENDAR
VERSION:2.0
PRODID:-//Nature&#039;s Brush Studio - ECPv6.15.20//NONSGML v1.0//EN
CALSCALE:GREGORIAN
METHOD:PUBLISH
X-ORIGINAL-URL:https://www.naturesbrushstudio.com
X-WR-CALDESC:Events for Nature&#039;s Brush Studio
REFRESH-INTERVAL;VALUE=DURATION:PT1H
X-Robots-Tag:noindex
X-PUBLISHED-TTL:PT1H
BEGIN:VTIMEZONE
TZID:America/Detroit
BEGIN:DAYLIGHT
TZOFFSETFROM:-0500
TZOFFSETTO:-0400
TZNAME:EDT
DTSTART:20230312T070000
END:DAYLIGHT
BEGIN:STANDARD
TZOFFSETFROM:-0400
TZOFFSETTO:-0500
TZNAME:EST
DTSTART:20231105T060000
END:STANDARD
BEGIN:DAYLIGHT
TZOFFSETFROM:-0500
TZOFFSETTO:-0400
TZNAME:EDT
DTSTART:20240310T070000
END:DAYLIGHT
BEGIN:STANDARD
TZOFFSETFROM:-0400
TZOFFSETTO:-0500
TZNAME:EST
DTSTART:20241103T060000
END:STANDARD
BEGIN:DAYLIGHT
TZOFFSETFROM:-0500
TZOFFSETTO:-0400
TZNAME:EDT
DTSTART:20250309T070000
END:DAYLIGHT
BEGIN:STANDARD
TZOFFSETFROM:-0400
TZOFFSETTO:-0500
TZNAME:EST
DTSTART:20251102T060000
END:STANDARD
END:VTIMEZONE
BEGIN:VEVENT
DTSTART;TZID=America/Detroit:20240203T120000
DTEND;TZID=America/Detroit:20240203T170000
DTSTAMP:20260425T074151
CREATED:20231101T165857Z
LAST-MODIFIED:20231127T232728Z
UID:6169-1706961600-1706979600@www.naturesbrushstudio.com
SUMMARY:Paint like Bob at Delta College PBS
DESCRIPTION:Well its that time again\, a special Bob Ross VIP event at Delta College.  Supporting Public Broadcasting is one of Bob’s legacies\, one I’m proud to continue.  For one price\, you get a tour of the Delta college studio\, lunch\, and a special class in the studio with me\, a Certified Ross Instructor® \nWe are doing this super wintery scene\, with a cabin during the snowy misty sky with lots of trees. \nThis time we are painting on Saturday! \nTour and lunch start at 11am\, class is from 12-3pm \nYou must sign up HERE~! \n 
URL:https://www.naturesbrushstudio.com/event/paint-like-bob-at-delta-college-pbs/
LOCATION:Delta College\, 1961 Delta Rd\, University Center\, MI\, 48336\, United States
ATTACH;FMTTYPE=image/jpeg:https://www.naturesbrushstudio.com/wp-content/uploads/2023/10/20230926_113841.jpg
END:VEVENT
BEGIN:VEVENT
DTSTART;TZID=America/Detroit:20240204T140000
DTEND;TZID=America/Detroit:20240204T170000
DTSTAMP:20260425T074151
CREATED:20231028T144825Z
LAST-MODIFIED:20240109T140857Z
UID:6150-1707055200-1707066000@www.naturesbrushstudio.com
SUMMARY:Paint like Bob Ross in Clarkston!
DESCRIPTION:I am super excited to teach in Clarkson through Independence township Parks and Rec.  We are going to have a great time painting a complete Bob Ross style masterpiece in just a few hours! \nEach class has a 2pm start to 5pm. \nJoin me for a super fun time! \nAll supplies are included and no experience is needed. \nClick here to register through the new Amilia app
URL:https://www.naturesbrushstudio.com/event/paint-like-bob-ross-in-clarkston-8/
LOCATION:Independence Twnship Bay Court Park\, 6970 Andersonville Rd\, Clarkston\, MI\, 48336\, United States
ATTACH;FMTTYPE=image/jpeg:https://www.naturesbrushstudio.com/wp-content/uploads/2023/10/Screenshot_20231025_084600_Gallery.jpg
END:VEVENT
BEGIN:VEVENT
DTSTART;TZID=America/Detroit:20240206T170000
DTEND;TZID=America/Detroit:20240206T200000
DTSTAMP:20260425T074151
CREATED:20231214T145610Z
LAST-MODIFIED:20231214T145610Z
UID:6380-1707238800-1707249600@www.naturesbrushstudio.com
SUMMARY:Learn to Paint like Bob Ross in Lansing\, MI
DESCRIPTION:Im very excited to continue my series of classes in Lansing!  2024 begins a new series and we are going to have a great time!  Even if you have never painted before\, you can learn the same techniques as Bob showed on the Joy of Painting\, and create a masterpiece in just a few hours. All supplies are included. You can do this! \nRegister at the links below and Ill see you there! \nhttp://tinyurl.com/tkpea52e
URL:https://www.naturesbrushstudio.com/event/learn-to-paint-like-bob-ross-in-lansing-mi-2/
LOCATION:Schmidt Community Center\, 5825 Wise Rd\, Lansing\, mi\, 48911
ATTACH;FMTTYPE=image/jpeg:https://www.naturesbrushstudio.com/wp-content/uploads/2023/12/20231214_094123.jpg
END:VEVENT
BEGIN:VEVENT
DTSTART;TZID=America/Detroit:20240207T170000
DTEND;TZID=America/Detroit:20240207T200000
DTSTAMP:20260425T074151
CREATED:20231122T151453Z
LAST-MODIFIED:20231122T151453Z
UID:6250-1707325200-1707336000@www.naturesbrushstudio.com
SUMMARY:Learn to paint like Bob Ross in Waterford
DESCRIPTION:Im looking forward to continuing classes in Waterford in 2024!  I teach all around MI\, and coming to Waterford was a long time coming\, and I cant wait to show this new venue the Joy of Painting! \nAs with all my venues\, all supplies are included and no previous painting experience is required. You can do this! \n  \nPlease register at the venue listed below!
URL:https://www.naturesbrushstudio.com/event/learn-to-paint-like-bob-ross-in-waterford-5/
LOCATION:Waterford Parks and Rec\, 5640 Williams Lake Road\, Waterford\, MI\, 48329
ATTACH;FMTTYPE=image/png:https://www.naturesbrushstudio.com/wp-content/uploads/2023/11/WaterfordFeb2024.png
END:VEVENT
BEGIN:VEVENT
DTSTART;TZID=America/Detroit:20240209T180000
DTEND;TZID=America/Detroit:20240209T210000
DTSTAMP:20260425T074151
CREATED:20231108T202112Z
LAST-MODIFIED:20231108T202112Z
UID:6215-1707501600-1707512400@www.naturesbrushstudio.com
SUMMARY:Learn to paint like Bob Ross in Livonia!
DESCRIPTION:Come join me in Livonia for a new series of classes. I teach here on Friday nights and Sunday mornings. \nRegistration can be done online through secure.rec1.com/MI/livonia-mi/catalog.  You have to create a free account in order to register for classes.  This is all done through the venue so their rules and processes apply. \nNo experience is needed and all supplies are included!  Check out my class pics and I hope to see you there!
URL:https://www.naturesbrushstudio.com/event/learn-to-paint-like-bob-ross-in-livonia-15/
LOCATION:Jack E Kirksey Center\, 15100 Hubbard St\, Livonia\, mi\, 48154
ATTACH;FMTTYPE=image/jpeg:https://www.naturesbrushstudio.com/wp-content/uploads/2023/11/20231108_151115-scaled.jpg
END:VEVENT
BEGIN:VEVENT
DTSTART;TZID=America/Detroit:20240210T130000
DTEND;TZID=America/Detroit:20240210T160000
DTSTAMP:20260425T074151
CREATED:20231206T142144Z
LAST-MODIFIED:20231206T142144Z
UID:6323-1707570000-1707580800@www.naturesbrushstudio.com
SUMMARY:The Joy of Painting the Bob Ross Way in Davisburg!
DESCRIPTION:I am very pleased to be continuing to offer classes at the Springfield Township Parks and Rec!  We will be doing one class per month\, a different painting each time.  Registration is being handled by \nhttps://stpr.us/CourseActivities.aspx?id=11 \nThe base cost is $70 and this includes all the supplies you need to create your masterpiece.   You can do this!  No experience required. \nI hope to see you there!
URL:https://www.naturesbrushstudio.com/event/the-joy-of-painting-the-bob-ross-way-in-davisburg-7/
LOCATION:Springfield Township parks and recreation\, 495 Broadway\, Davisburg\, mi
ATTACH;FMTTYPE=image/jpeg:https://www.naturesbrushstudio.com/wp-content/uploads/2023/12/STPRFeb24.jpg
END:VEVENT
BEGIN:VEVENT
DTSTART;TZID=America/Detroit:20240213T180000
DTEND;TZID=America/Detroit:20240213T210000
DTSTAMP:20260425T074151
CREATED:20231211T200933Z
LAST-MODIFIED:20240117T005036Z
UID:6347-1707847200-1707858000@www.naturesbrushstudio.com
SUMMARY:Learn to Paint like Bob Ross in Linden!
DESCRIPTION:Ive VERY excited to announce a new venue for classes in wonderful Linden!  We will be painting at the new Multi-purpose building starting in January! \nHERE is the link to see all the classes and so you can pick and choose which class works best for you. \nAs with all my classes\, all supplies are included and no previous experience is required.  You can do this!!
URL:https://www.naturesbrushstudio.com/event/learn-to-paint-like-bob-ross-in-linden-2/
LOCATION:Linden  Multi-Purpose room\, 7209 Silver Lake Rd\, Linden\, MI\, 48451
ATTACH;FMTTYPE=image/png:https://www.naturesbrushstudio.com/wp-content/uploads/2023/12/LindenFeb24.png
END:VEVENT
BEGIN:VEVENT
DTSTART;TZID=America/Detroit:20240216T180000
DTEND;TZID=America/Detroit:20240216T210000
DTSTAMP:20260425T074151
CREATED:20231128T185631Z
LAST-MODIFIED:20240126T151106Z
UID:6293-1708106400-1708117200@www.naturesbrushstudio.com
SUMMARY:Paint like Bob Ross at the War Memorial!
DESCRIPTION:I love coming out to the fantastic War Memorial.  As with all my classes\, no experience is needed and all supplies are included. Come join me for new series of classes!  Fluffy clouds\, big strong mountains\, and of course\, lots of happy trees. \n  \nCheck out this link to find the class and register!
URL:https://www.naturesbrushstudio.com/event/paint-like-bob-ross-at-the-war-memorial-8/
LOCATION:The War Memorial\, 32 Lake Shore Drive\, Grosse Pointe Farms\, mi\, 48236
END:VEVENT
BEGIN:VEVENT
DTSTART;TZID=America/Detroit:20240217T130000
DTEND;TZID=America/Detroit:20240217T160000
DTSTAMP:20260425T074151
CREATED:20231108T174928Z
LAST-MODIFIED:20231108T174928Z
UID:6187-1708174800-1708185600@www.naturesbrushstudio.com
SUMMARY:Learn to paint like Bob Ross in Fenton
DESCRIPTION:I am so happy to be teaching in Fenton for 2024!  I have some great paintings selected for this venue\, to stretch the skills of returning students\, while still being very very accessable for the first timer. \nCheck out all the events coming up here\, and sign up at www.slpr.net \nAll supplies included and no experience is needed! \nHope to see you there!
URL:https://www.naturesbrushstudio.com/event/learn-to-paint-like-bob-ross-in-fenton-18/
LOCATION:fenton SLPR\, 150 s leroy st\, fenton\, mi\, 48430
ATTACH;FMTTYPE=image/jpeg:https://www.naturesbrushstudio.com/wp-content/uploads/2023/11/FentonFeb24.jpg
END:VEVENT
BEGIN:VEVENT
DTSTART;TZID=America/Detroit:20240218T090000
DTEND;TZID=America/Detroit:20240218T120000
DTSTAMP:20260425T074151
CREATED:20231108T202308Z
LAST-MODIFIED:20231108T202308Z
UID:6220-1708246800-1708257600@www.naturesbrushstudio.com
SUMMARY:Learn to paint like Bob Ross in Livonia!
DESCRIPTION:Come join me in Livonia for a new series of classes. I teach here on Friday nights and Sunday mornings. \nRegistration can be done online through secure.rec1.com/MI/livonia-mi/catalog.  You have to create a free account in order to register for classes.  This is all done through the venue so their rules and processes apply. \nNo experience is needed and all supplies are included!  Check out my class pics and I hope to see you there!
URL:https://www.naturesbrushstudio.com/event/learn-to-paint-like-bob-ross-in-livonia-16/
LOCATION:Jack E Kirksey Center\, 15100 Hubbard St\, Livonia\, mi\, 48154
END:VEVENT
BEGIN:VEVENT
DTSTART;TZID=America/Detroit:20240220T110000
DTEND;TZID=America/Detroit:20240220T140000
DTSTAMP:20260425T074151
CREATED:20231108T180311Z
LAST-MODIFIED:20240201T124238Z
UID:6197-1708426800-1708437600@www.naturesbrushstudio.com
SUMMARY:Learn to Paint like Bob Ross at the OLLI at SVSU!
DESCRIPTION:I’m pretty happy to get up north again\, this time at the Saginaw Valley State University at the Olli!  We are going to have a great time painting in Bob’s Wet on Wet technique® \nAubury Fine Arts Center Room 107 (Near the Marshall Fredericks Museum) \n$90 per student.  All supplies are included and no previous painting experience is required.  Happy Trees incoming! \nPlease register HERE the event is LIVE!
URL:https://www.naturesbrushstudio.com/event/learn-to-paint-like-bob-ross-at-the-olli-at-svsu-2/
ATTACH;FMTTYPE=image/jpeg:https://www.naturesbrushstudio.com/wp-content/uploads/2023/11/giannasMarch-1.jpg
END:VEVENT
BEGIN:VEVENT
DTSTART;TZID=America/Detroit:20240221T180000
DTEND;TZID=America/Detroit:20240221T210000
DTSTAMP:20260425T074151
CREATED:20231214T140720Z
LAST-MODIFIED:20231214T140720Z
UID:6363-1708538400-1708549200@www.naturesbrushstudio.com
SUMMARY:Paint like Bob Ross in Novi!
DESCRIPTION:I am very excited to continue my classes in Novi!   Let’s start a new run of classes for 2024! \nEven if you have never painted before\, you can learn the same techniques as Bob showed on the Joy of Painting\, and create a masterpiece in just a few hours.  All supplies are included.  You can do this! \nClasses are now at the Novi Meadows 6th grade house\, Room 646  25299 Taft Rd\, Novi\, 48374
URL:https://www.naturesbrushstudio.com/event/paint-like-bob-ross-in-novi-14/
LOCATION:Novi meadows 6th grade house\, 25299 Taft Rd Room 646\, Novi\, Mi\, 48374
ATTACH;FMTTYPE=image/png:https://www.naturesbrushstudio.com/wp-content/uploads/2023/12/NoviFeb24.png
END:VEVENT
BEGIN:VEVENT
DTSTART;TZID=America/Detroit:20240223T180000
DTEND;TZID=America/Detroit:20240223T210000
DTSTAMP:20260425T074151
CREATED:20240111T201232Z
LAST-MODIFIED:20240111T201441Z
UID:6466-1708711200-1708722000@www.naturesbrushstudio.com
SUMMARY:Learn to paint like Bob Ross in F.Hills\, Life in the craft room!
DESCRIPTION:I am super excited for the next class at the Life in the Craft Room in Farmington Hills!  We are doing this fancier mountains with lots of highlights and spring colors. \nThis store holds many different types of classes and features vendors from all around Michigan\, selling a huge variety of crafts and artworks. You have to come check them out! \nWe are painting this fun scene based off the Joy of Painting with Bob Ross®  Join me for a few hours having a fun time learning the techniques Bob developed and go home with a completed painting at the end of the class. All supplies are included and no previous experience is required.  You can do this!
URL:https://www.naturesbrushstudio.com/event/leant-to-paint-like-bob-ross-in-f-hills-life-in-the-craft-room/
LOCATION:life in the craft room\, 37700 Six Mile Rd\, Livonia\, MI\, 48152\, United States
ATTACH;FMTTYPE=image/jpeg:https://www.naturesbrushstudio.com/wp-content/uploads/2024/01/20240105_211024-scaled.jpg
END:VEVENT
END:VCALENDAR